BEGIN:VCALENDAR
VERSION:2.0
PRODID:-//Seafest Festival | Yarmouth, Nova Scotia - ECPv6.15.20//NONSGML v1.0//EN
CALSCALE:GREGORIAN
METHOD:PUBLISH
X-WR-CALNAME:Seafest Festival | Yarmouth, Nova Scotia
X-ORIGINAL-URL:https://www.seafest.ca
X-WR-CALDESC:Events for Seafest Festival | Yarmouth, Nova Scotia
REFRESH-INTERVAL;VALUE=DURATION:PT1H
X-Robots-Tag:noindex
X-PUBLISHED-TTL:PT1H
BEGIN:VTIMEZONE
TZID:America/Halifax
BEGIN:DAYLIGHT
TZOFFSETFROM:-0400
TZOFFSETTO:-0300
TZNAME:ADT
DTSTART:20220313T060000
END:DAYLIGHT
BEGIN:STANDARD
TZOFFSETFROM:-0300
TZOFFSETTO:-0400
TZNAME:AST
DTSTART:20221106T050000
END:STANDARD
BEGIN:DAYLIGHT
TZOFFSETFROM:-0400
TZOFFSETTO:-0300
TZNAME:ADT
DTSTART:20230312T060000
END:DAYLIGHT
BEGIN:STANDARD
TZOFFSETFROM:-0300
TZOFFSETTO:-0400
TZNAME:AST
DTSTART:20231105T050000
END:STANDARD
BEGIN:DAYLIGHT
TZOFFSETFROM:-0400
TZOFFSETTO:-0300
TZNAME:ADT
DTSTART:20240310T060000
END:DAYLIGHT
BEGIN:STANDARD
TZOFFSETFROM:-0300
TZOFFSETTO:-0400
TZNAME:AST
DTSTART:20241103T050000
END:STANDARD
END:VTIMEZONE
BEGIN:VEVENT
DTSTART;TZID=America/Halifax:20230721T060000
DTEND;TZID=America/Halifax:20230721T220000
DTSTAMP:20260424T165753
CREATED:20230713T130143Z
LAST-MODIFIED:20230713T190218Z
UID:2346-1689919200-1689976800@www.seafest.ca
SUMMARY:Live Entertainment at the Coal Shed
DESCRIPTION:6:00-8:00pm: Catch 22 Comedy Crew\n8:00-10:00pm: Salem Road
URL:https://www.seafest.ca/events/live-entertainment-at-the-coal-shed/
LOCATION:Nova Scotia
END:VEVENT
BEGIN:VEVENT
DTSTART;TZID=America/Halifax:20230721T120000
DTEND;TZID=America/Halifax:20230721T133000
DTSTAMP:20260424T165753
CREATED:20230527T174104Z
LAST-MODIFIED:20240628T133313Z
UID:2125-1689940800-1689946200@www.seafest.ca
SUMMARY:Scotia Garden Seafood Herring Toss
DESCRIPTION:It’s a bird! It’s a plane! It’s … Herring? You’ll want to look up and pay attention during this slippery Seafest staple as you and your teammates dress-up in traditional yellow Sou’wester gear and toss Herring to each other from commercial fishing boxes\, multiple meters apart. The goal is to be the first team to get geared up and catch as many Herring in a bucket as possible. It’s a ton of fun\, and a fan favourite year after year! \nWe recommend wearing older clothes that can be stained or soiled. \nThis event is 13 years and up. \nPrizes are: \nMen’s \n\n1st 40$ \n2nd 30$\n3rd 20$\n\nWomen’s \n\n1st 40$\n2nd 30$ \n3rd 20$ \n\nMixed \n\n1st 40$ \n2nd 30$ \n3rd 20$ 
URL:https://www.seafest.ca/events/herring-toss/
LOCATION:Killams Wharf\, 90 Water St\, Yarmouth\, Nova Scotia\, Canada
ORGANIZER;CN="Yarmouth Seafest":MAILTO:info@seafest.ca
END:VEVENT
BEGIN:VEVENT
DTSTART;TZID=America/Halifax:20230721T140000
DTEND;TZID=America/Halifax:20230721T160000
DTSTAMP:20260424T165753
CREATED:20230527T174223Z
LAST-MODIFIED:20230620T131454Z
UID:2127-1689948000-1689955200@www.seafest.ca
SUMMARY:Sail\, Salt Water and Stories by the Sea - Walking tour
DESCRIPTION:Join David Sallows for a fun\, interactive walking tour that explores Yarmouth’s rich history. The tour will be starting at the Frost Park Gazebo next to Town Hall on Main Street. We recommend wearing comfortable shoes and a light wind-breaking jacket.
URL:https://www.seafest.ca/events/walking-tour/
LOCATION:Frost Park\, 406 Main Street\, Yarmouth\, Nova Scotia\, Canada
ORGANIZER;CN="Yarmouth Seafest":MAILTO:info@seafest.ca
END:VEVENT
END:VCALENDAR