BEGIN:VCALENDAR
VERSION:2.0
PRODID:-//Seafest Festival | Yarmouth, Nova Scotia - ECPv6.15.20//NONSGML v1.0//EN
CALSCALE:GREGORIAN
METHOD:PUBLISH
X-ORIGINAL-URL:https://www.seafest.ca
X-WR-CALDESC:Events for Seafest Festival | Yarmouth, Nova Scotia
REFRESH-INTERVAL;VALUE=DURATION:PT1H
X-Robots-Tag:noindex
X-PUBLISHED-TTL:PT1H
BEGIN:VTIMEZONE
TZID:America/Halifax
BEGIN:DAYLIGHT
TZOFFSETFROM:-0400
TZOFFSETTO:-0300
TZNAME:ADT
DTSTART:20220313T060000
END:DAYLIGHT
BEGIN:STANDARD
TZOFFSETFROM:-0300
TZOFFSETTO:-0400
TZNAME:AST
DTSTART:20221106T050000
END:STANDARD
BEGIN:DAYLIGHT
TZOFFSETFROM:-0400
TZOFFSETTO:-0300
TZNAME:ADT
DTSTART:20230312T060000
END:DAYLIGHT
BEGIN:STANDARD
TZOFFSETFROM:-0300
TZOFFSETTO:-0400
TZNAME:AST
DTSTART:20231105T050000
END:STANDARD
BEGIN:DAYLIGHT
TZOFFSETFROM:-0400
TZOFFSETTO:-0300
TZNAME:ADT
DTSTART:20240310T060000
END:DAYLIGHT
BEGIN:STANDARD
TZOFFSETFROM:-0300
TZOFFSETTO:-0400
TZNAME:AST
DTSTART:20241103T050000
END:STANDARD
END:VTIMEZONE
BEGIN:VEVENT
DTSTART;VALUE=DATE:20230722
DTEND;VALUE=DATE:20230723
DTSTAMP:20260424T170135
CREATED:20230527T174408Z
LAST-MODIFIED:20230620T125232Z
UID:2131-1689984000-1690070399@www.seafest.ca
SUMMARY:Dairy Queen's Kids' Day
DESCRIPTION:Kids’ day is a fun day for you and your kids! There will be bouncy castles\, Kidzact\, Care Bear Band\, face painting\, shell painting and much more! We look forward to seeing everyone come down for a fun day at Killam’s Wharf!
URL:https://www.seafest.ca/events/kids-day/
LOCATION:Killams Wharf\, 90 Water St\, Yarmouth\, Nova Scotia\, Canada
ORGANIZER;CN="Yarmouth Seafest":MAILTO:info@seafest.ca
END:VEVENT
BEGIN:VEVENT
DTSTART;TZID=America/Halifax:20230722T110000
DTEND;TZID=America/Halifax:20230722T123000
DTSTAMP:20260424T170135
CREATED:20230527T174449Z
LAST-MODIFIED:20230707T132147Z
UID:2133-1690023600-1690029000@www.seafest.ca
SUMMARY:Kids'/Family Scavenger Hunt
DESCRIPTION:Have family fun by hunting to help the to find what the characters need you to find.
URL:https://www.seafest.ca/events/kids-scavenger-hunt/
LOCATION:Killams Wharf\, 90 Water St\, Yarmouth\, Nova Scotia\, Canada
ORGANIZER;CN="Yarmouth Seafest":MAILTO:info@seafest.ca
END:VEVENT
BEGIN:VEVENT
DTSTART;TZID=America/Halifax:20230722T110000
DTEND;TZID=America/Halifax:20230722T200000
DTSTAMP:20260424T170135
CREATED:20230706T131639Z
LAST-MODIFIED:20230717T153505Z
UID:2293-1690023600-1690056000@www.seafest.ca
SUMMARY:Live Entertainment at the Coal Shed
DESCRIPTION:11am – 12pm – Les Ukeladies de Claire \n12pm – 1pm – Timbeanie Kids’ Show \n1pm – 2pm – Kidzact \n2pm – 3pm – The Clare Bears \n4pm – Shannon Malone Entertainment \n4pm – 6pm – Tim Vallillee- Solo Artist \n6pm – 8pm – The Scallywags
URL:https://www.seafest.ca/events/entertainment-at-the-coal-shed/
LOCATION:Coal Shed\, 90 Water St\, Yarmouth
ORGANIZER;CN="Yarmouth Seafest":MAILTO:info@seafest.ca
END:VEVENT
BEGIN:VEVENT
DTSTART;TZID=America/Halifax:20230722T120000
DTEND;TZID=America/Halifax:20230722T140000
DTSTAMP:20260424T170135
CREATED:20230527T174643Z
LAST-MODIFIED:20230527T174643Z
UID:2139-1690027200-1690034400@www.seafest.ca
SUMMARY:Shell and Face Painting
DESCRIPTION:
URL:https://www.seafest.ca/events/shell-and-face-painting/
LOCATION:Nova Scotia
ORGANIZER;CN="Yarmouth Seafest":MAILTO:info@seafest.ca
END:VEVENT
BEGIN:VEVENT
DTSTART;TZID=America/Halifax:20230722T120000
DTEND;TZID=America/Halifax:20230722T160000
DTSTAMP:20260424T170135
CREATED:20230527T174524Z
LAST-MODIFIED:20230706T131944Z
UID:2135-1690027200-1690041600@www.seafest.ca
SUMMARY:Bouncy Castles
DESCRIPTION:Kids will need to wear socks in order to go on the bouncy castles.
URL:https://www.seafest.ca/events/bouncy-castles/
LOCATION:Nova Scotia
ORGANIZER;CN="Yarmouth Seafest":MAILTO:info@seafest.ca
END:VEVENT
BEGIN:VEVENT
DTSTART;TZID=America/Halifax:20230722T160000
DTEND;TZID=America/Halifax:20230722T180000
DTSTAMP:20260424T170135
CREATED:20230527T174800Z
LAST-MODIFIED:20230623T132637Z
UID:2143-1690041600-1690048800@www.seafest.ca
SUMMARY:Pet Pageant
DESCRIPTION:  \nBring your pet(s)\, on leashes\, for the 2nd Seafest pet pageant! There will be 7 categories for your pet to possibly win and take home the prize! There will be three judges and only one winner in each category. NOTE: You can only register your pet for TWO categories MAX. The categories are as follows: \n\n“VIP” – Very Interesting Pet\nFabulous Feline\nBest Costume\nPerfect Pair (Do you and your pet make the perfect pair? Or maybe you have two pets that make the perfect pair!)\nBest Trick\nCutest Pet\nFavourite Flying Friend\n\nYOU MUST REGISTER FOR THIS EVENT. To register\, please fill out the following form via Google Forms:https://docs.google.com/forms/d/e/1FAIpQLSddVED-CtYhJ5OdolNGwpGw9eoYSuSouFZxOIFt1hDRkZTJbg/viewform?usp=sf_link
URL:https://www.seafest.ca/events/pet-show-competition/
LOCATION:Parker Eakins wharf\, 96 Water St\, Yarmouth\, Nova Scotia\, Canada
ORGANIZER;CN="Yarmouth Seafest":MAILTO:info@seafest.ca
END:VEVENT
BEGIN:VEVENT
DTSTART;TZID=America/Halifax:20230722T190000
DTEND;TZID=America/Halifax:20230722T200000
DTSTAMP:20260424T170135
CREATED:20230707T182521Z
LAST-MODIFIED:20230707T183645Z
UID:2312-1690052400-1690056000@www.seafest.ca
SUMMARY:Nathaniel Rankin
DESCRIPTION:Nathaniel Rankin is an international award winning magician & circus artist. His one man show Astonishment has been performed over 5\,000 times in 45 countries and 5 continents. Astonishment combines state of the art modern magic\, circus skills\, dangerous stunts\, audience interaction\, comedy & mind reading. \nFor more information on this event go to \nhttps://www.yarcplayhouse.com/calendar/nathaniel-rankin-canadian-champion-of-magic/
URL:https://www.seafest.ca/events/nathaniel-rankin/
LOCATION:Th’YARC Playhouse and Arts Centre\, 76 Parade Street\, Yarmouth\, Nova Scotia\, B5A 3B4\, Canada
END:VEVENT
END:VCALENDAR