BEGIN:VCALENDAR
VERSION:2.0
PRODID:-//Seafest Festival | Yarmouth, Nova Scotia - ECPv6.15.20//NONSGML v1.0//EN
CALSCALE:GREGORIAN
METHOD:PUBLISH
X-WR-CALNAME:Seafest Festival | Yarmouth, Nova Scotia
X-ORIGINAL-URL:https://www.seafest.ca
X-WR-CALDESC:Events for Seafest Festival | Yarmouth, Nova Scotia
REFRESH-INTERVAL;VALUE=DURATION:PT1H
X-Robots-Tag:noindex
X-PUBLISHED-TTL:PT1H
BEGIN:VTIMEZONE
TZID:America/Halifax
BEGIN:DAYLIGHT
TZOFFSETFROM:-0400
TZOFFSETTO:-0300
TZNAME:ADT
DTSTART:20230312T060000
END:DAYLIGHT
BEGIN:STANDARD
TZOFFSETFROM:-0300
TZOFFSETTO:-0400
TZNAME:AST
DTSTART:20231105T050000
END:STANDARD
BEGIN:DAYLIGHT
TZOFFSETFROM:-0400
TZOFFSETTO:-0300
TZNAME:ADT
DTSTART:20240310T060000
END:DAYLIGHT
BEGIN:STANDARD
TZOFFSETFROM:-0300
TZOFFSETTO:-0400
TZNAME:AST
DTSTART:20241103T050000
END:STANDARD
BEGIN:DAYLIGHT
TZOFFSETFROM:-0400
TZOFFSETTO:-0300
TZNAME:ADT
DTSTART:20250309T060000
END:DAYLIGHT
BEGIN:STANDARD
TZOFFSETFROM:-0300
TZOFFSETTO:-0400
TZNAME:AST
DTSTART:20251102T050000
END:STANDARD
END:VTIMEZONE
BEGIN:VEVENT
DTSTART;TZID=America/Halifax:20240723T080000
DTEND;TZID=America/Halifax:20240723T140000
DTSTAMP:20260423T214700
CREATED:20240621T153710Z
LAST-MODIFIED:20240625T140239Z
UID:2497-1721721600-1721743200@www.seafest.ca
SUMMARY:Aidaen Mae Yard Sale
DESCRIPTION:Participate in a yard sale at Aidaen’s Place\, where all proceeds will support youth wellness programs at The Purple House.
URL:https://www.seafest.ca/events/aidaen-mae-yard-sale/
LOCATION:Aidaen’s Place Youth Wellness Center\, 487 Main St\, Yarmouth\, Nova Scotia\, B5A 1H4\, Canada
ORGANIZER;CN="Aidaen's Place Youth Wellness Center":MAILTO:aidaensplace@gmail.com
END:VEVENT
BEGIN:VEVENT
DTSTART;TZID=America/Halifax:20240723T170000
DTEND;TZID=America/Halifax:20240723T200000
DTSTAMP:20260423T214700
CREATED:20240711T133413Z
LAST-MODIFIED:20240717T174649Z
UID:2422-1721754000-1721764800@www.seafest.ca
SUMMARY:Escape Room Day Three (Sold Out)
DESCRIPTION:Do you have what it takes to escape our Seafest-themed escape room? Come out to the Holy Trinity Church and test your problem-solving skills! A maximum of 8 people are allowed per group\, with a time limit of 45 minutes. No electronics are permitted during the 45 minutes; you can only use your brain! Payment and donations will be taken in person before the beginning of the escape room. YOU MUST REGISTER FOR THIS EVENT. \nTo register\, please fill out the following form via Google Form https://forms.gle/6kTYqgYyh3Spi9oA9 \n$5 per participant DONATIONS ARE ENCOURAGED. All donations go to charity.
URL:https://www.seafest.ca/events/escape-room-day-three/
LOCATION:Holy Trinity Church\, 61 William Street\, Yarmouth\, Nova Scotia\, B5A 1Y4\, Canada
ORGANIZER;CN="Yarmouth Seafest":MAILTO:info@seafest.ca
END:VEVENT
END:VCALENDAR