BEGIN:VCALENDAR
VERSION:2.0
PRODID:-//Seafest Festival | Yarmouth, Nova Scotia - ECPv6.15.20//NONSGML v1.0//EN
CALSCALE:GREGORIAN
METHOD:PUBLISH
X-WR-CALNAME:Seafest Festival | Yarmouth, Nova Scotia
X-ORIGINAL-URL:https://www.seafest.ca
X-WR-CALDESC:Events for Seafest Festival | Yarmouth, Nova Scotia
REFRESH-INTERVAL;VALUE=DURATION:PT1H
X-Robots-Tag:noindex
X-PUBLISHED-TTL:PT1H
BEGIN:VTIMEZONE
TZID:America/Sao_Paulo
BEGIN:STANDARD
TZOFFSETFROM:-0300
TZOFFSETTO:-0300
TZNAME:-03
DTSTART:20230101T000000
END:STANDARD
END:VTIMEZONE
BEGIN:VEVENT
DTSTART;TZID=America/Sao_Paulo:20240725T180000
DTEND;TZID=America/Sao_Paulo:20240725T200000
DTSTAMP:20260423T214700
CREATED:20240723T135228Z
LAST-MODIFIED:20240723T135228Z
UID:2611-1721930400-1721937600@www.seafest.ca
SUMMARY:Coastal Credit Union Car Rally Scavenger Hunt
DESCRIPTION:Discover the charming town of Yarmouth through an exciting scavenger hunt. Form a team of up to 5 members and embark on an adventure! This event will require at least one member to have a mobile device and one member to have a vehicle \nThis event requires you to register using the following form: https://forms.gle/KpTNPhFaxMpc2Aox9
URL:https://www.seafest.ca/events/coastal-credit-union-car-rally-scavenger-hunt/
LOCATION:Killam Bros. Marina\, 90 Water St\, Yarmouth\, Nova Scotia\, Canada
ORGANIZER;CN="Yarmouth Seafest":MAILTO:info@seafest.ca
END:VEVENT
END:VCALENDAR