BEGIN:VCALENDAR
VERSION:2.0
PRODID:-//Seafest Festival | Yarmouth, Nova Scotia - ECPv6.15.20//NONSGML v1.0//EN
CALSCALE:GREGORIAN
METHOD:PUBLISH
X-ORIGINAL-URL:https://www.seafest.ca
X-WR-CALDESC:Events for Seafest Festival | Yarmouth, Nova Scotia
REFRESH-INTERVAL;VALUE=DURATION:PT1H
X-Robots-Tag:noindex
X-PUBLISHED-TTL:PT1H
BEGIN:VTIMEZONE
TZID:America/Halifax
BEGIN:DAYLIGHT
TZOFFSETFROM:-0400
TZOFFSETTO:-0300
TZNAME:ADT
DTSTART:20220313T060000
END:DAYLIGHT
BEGIN:STANDARD
TZOFFSETFROM:-0300
TZOFFSETTO:-0400
TZNAME:AST
DTSTART:20221106T050000
END:STANDARD
BEGIN:DAYLIGHT
TZOFFSETFROM:-0400
TZOFFSETTO:-0300
TZNAME:ADT
DTSTART:20230312T060000
END:DAYLIGHT
BEGIN:STANDARD
TZOFFSETFROM:-0300
TZOFFSETTO:-0400
TZNAME:AST
DTSTART:20231105T050000
END:STANDARD
BEGIN:DAYLIGHT
TZOFFSETFROM:-0400
TZOFFSETTO:-0300
TZNAME:ADT
DTSTART:20240310T060000
END:DAYLIGHT
BEGIN:STANDARD
TZOFFSETFROM:-0300
TZOFFSETTO:-0400
TZNAME:AST
DTSTART:20241103T050000
END:STANDARD
END:VTIMEZONE
BEGIN:VEVENT
DTSTART;TZID=America/Halifax:20230712T090000
DTEND;TZID=America/Halifax:20230719T090000
DTSTAMP:20260424T153943
CREATED:20230705T163907Z
LAST-MODIFIED:20230717T144009Z
UID:2280-1689152400-1689757200@www.seafest.ca
SUMMARY:Online Contests
DESCRIPTION:Join the fun doing the Online Contest! The contest will take place from July 12th – July 19th. this year there are 3 different categories. We will need your contact info to send back prizes to winners \n\nInuksuk- make your best Inuksuk with all natural materials up to 2 meters tall\nRock Painting- take your favorite rock and paint your best picture of the Seafest theme\nScenery – These photos will have three different categories which are found below.\n\n\nPortrait\nLandscape\nCreative\n\nThese photos should be based on the Seafest Theme\, which is Starlight And Sandcastles. \n\nPhotos should be:\n\nJPEG format\n72dpi\nResized to 2048 on the longest size\nNo more then 500KB in size\n\n\nNaming:\n\nPhoto’s should be named with category first then a dash and photographer’s last name.\nExample: Creative – Warner\n\n\n\nsend your entries to info@seafest.ca
URL:https://www.seafest.ca/events/online-photo-contests/
LOCATION:Nova Scotia
END:VEVENT
BEGIN:VEVENT
DTSTART;TZID=America/Halifax:20230712T130000
DTEND;TZID=America/Halifax:20230712T163000
DTSTAMP:20260424T153943
CREATED:20230527T171432Z
LAST-MODIFIED:20230706T135605Z
UID:2088-1689166800-1689179400@www.seafest.ca
SUMMARY:Pharmasave's Children's Parade & Picnic in the Park
DESCRIPTION:Come join us for the Pharmasave’s Children’s Parade and picnic in the park! There will be games\, bouncy castles (Socks are needed to be on the bouncy castles)\, BBQ\, and refreshments all at Frost Park starting at 2:00pm. The parade starts at 1:15pm at the old Visitor Information Centre (228 Main St) and will end at Frost Park (406 Main St) at approximately 2:00pm. \nNOTE: For your child to be able to participate in the parade\, a waiver needs to be filled out. The waiver can be picked up at our office or emailed to you. \n 
URL:https://www.seafest.ca/events/childrens-parade-picnic-in-the-park/
LOCATION:Frost Park\, 406 Main Street\, Yarmouth\, Nova Scotia\, Canada
CATEGORIES:Featured
ORGANIZER;CN="Yarmouth Seafest":MAILTO:info@seafest.ca
END:VEVENT
BEGIN:VEVENT
DTSTART;TZID=America/Halifax:20230712T140000
DTEND;TZID=America/Halifax:20230712T170000
DTSTAMP:20260424T153943
CREATED:20230706T133020Z
LAST-MODIFIED:20230706T135341Z
UID:2300-1689170400-1689181200@www.seafest.ca
SUMMARY:Art in the Park
DESCRIPTION:
URL:https://www.seafest.ca/events/art-in-the-park/
LOCATION:Frost Park\, 406 Main Street\, Yarmouth\, Nova Scotia\, Canada
END:VEVENT
BEGIN:VEVENT
DTSTART;TZID=America/Halifax:20230712T190000
DTEND;TZID=America/Halifax:20230712T203000
DTSTAMP:20260424T153943
CREATED:20230527T171734Z
LAST-MODIFIED:20230710T143230Z
UID:2092-1689188400-1689193800@www.seafest.ca
SUMMARY:Town Crier Trivia
DESCRIPTION:Join David Olie – Yarmouth Town Crier for Trivia at Th’YARC. Cash prizes to be won! Maximum team size of 4 people\, all phones and other internet devices have to be handed in at the door\, 3 rounds of 10 questions each with all the questions being general knowledge question\,. venue is air conditioned\, and the canteen will be open for people to buy drinks and snacks in the lobby. 
URL:https://www.seafest.ca/events/town-crier-trivia/
LOCATION:Th’YARC Playhouse and Arts Centre\, 76 Parade Street\, Yarmouth\, Nova Scotia\, B5A 3B4\, Canada
ORGANIZER;CN="Yarmouth Seafest":MAILTO:info@seafest.ca
END:VEVENT
BEGIN:VEVENT
DTSTART;VALUE=DATE:20230713
DTEND;VALUE=DATE:20230714
DTSTAMP:20260424T153943
CREATED:20230527T171825Z
LAST-MODIFIED:20230713T135744Z
UID:2094-1689206400-1689292799@www.seafest.ca
SUMMARY:Museum Day
DESCRIPTION:Museum Day is a great day for you and your family to explore the rich heritage of the Town of Yarmouth and surrounding areas. All of the following museums will be offering FREE admission for their respective opening hours! \n\n9-5pm Historique acadien de la Nouvelle-Ecosse\n9-6pm Rendez-Vous de la Baie\n9-5pm Wedgeport Sport Tuna Museum\n9-5pm Musée des Acadiens des Pubnicos\n9-5pm W. Lawrence Sweeney Fisheries Museum\n9-4pm Yarmouth Firefighters’ Museum\n9-4pm Yarmouth Town & Country Sports Heritage Museum\n9-6pm Cape Forchu Lighthouse\n9-5pm Southwest Nova Biosphere Reserve\n9-5pm Harbourfront Museum\n9-5pm Killam Brothers Museum\n9-5pm Art Gallery of Nova Scotia\n9-4pm Argyle Township Court House Archives (cake and other activities provided!)\n\nLink to a map with all of the participating museums: https://www.google.com/maps/d/u/2/edit?mid=1fA5MjMra80zKty_cKycmcJWxfNTDwy8&usp=sharing
URL:https://www.seafest.ca/events/museum-day/
LOCATION:Nova Scotia
ORGANIZER;CN="Yarmouth Seafest":MAILTO:info@seafest.ca
END:VEVENT
BEGIN:VEVENT
DTSTART;TZID=America/Halifax:20230713T140000
DTEND;TZID=America/Halifax:20230713T160000
DTSTAMP:20260424T153943
CREATED:20230527T171951Z
LAST-MODIFIED:20230623T130800Z
UID:2096-1689256800-1689264000@www.seafest.ca
SUMMARY:Seafest Tea
DESCRIPTION:Join us for a Seafest Tea Social at the Holy Trinity Church. There will be sandwiches\, strawberry shortcake\, and of course\, TEA! Admission is $10 per person; first come\, first serve.
URL:https://www.seafest.ca/events/seafest-tea/
LOCATION:Holy Trinity Church\, 61 William Street\, Yarmouth\, Nova Scotia\, B5A 1Y4\, Canada
ORGANIZER;CN="Yarmouth Seafest":MAILTO:info@seafest.ca
END:VEVENT
BEGIN:VEVENT
DTSTART;TZID=America/Halifax:20230713T180000
DTEND;TZID=America/Halifax:20230713T183000
DTSTAMP:20260424T153943
CREATED:20230527T172119Z
LAST-MODIFIED:20230620T132423Z
UID:2098-1689271200-1689273000@www.seafest.ca
SUMMARY:Concert of the Bells
DESCRIPTION:Enjoy the wonderful sounds and melodies of the Holy Trinity Church bells at this classic Seafest event.
URL:https://www.seafest.ca/events/concert-of-the-bells/
LOCATION:Holy Trinity Church\, 61 William Street\, Yarmouth\, Nova Scotia\, B5A 1Y4\, Canada
ORGANIZER;CN="Yarmouth Seafest":MAILTO:info@seafest.ca
END:VEVENT
BEGIN:VEVENT
DTSTART;TZID=America/Halifax:20230713T180000
DTEND;TZID=America/Halifax:20230713T210000
DTSTAMP:20260424T153943
CREATED:20230527T172229Z
LAST-MODIFIED:20230706T131147Z
UID:2100-1689271200-1689282000@www.seafest.ca
SUMMARY:Paint Night
DESCRIPTION:Come enjoy a guided paint night with Dawn at the Th’YARC Playhouse and Arts Centre. All materials are provided. Bar services and canteen will be open. \nYOU MUST REGISTER FOR THIS EVENT. There is a maximum of 20 people per night and there is a $20 admission fee that can either be paid in advance at the Seafest office or an e-transfer payment made to info@seafest.ca.\nTo register\, please fill out the following form via google forms: https://docs.google.com/forms/d/e/1FAIpQLSf8sa2ETOnPcACMTpusIIa8SBMhly4jnkz_-sx_VObsWvm3XA/viewform?usp=sf_link
URL:https://www.seafest.ca/events/paint-night/
LOCATION:Th’YARC Playhouse and Arts Centre\, 76 Parade Street\, Yarmouth\, Nova Scotia\, B5A 3B4\, Canada
ORGANIZER;CN="Yarmouth Seafest":MAILTO:info@seafest.ca
END:VEVENT
BEGIN:VEVENT
DTSTART;TZID=America/Halifax:20230714T140000
DTEND;TZID=America/Halifax:20230714T160000
DTSTAMP:20260424T153943
CREATED:20230527T172341Z
LAST-MODIFIED:20230714T150309Z
UID:2102-1689343200-1689350400@www.seafest.ca
SUMMARY:Chalk Drawing
DESCRIPTION:Chalk Drawing at Th’YARC \nPrizes are \n1st 25$ gift card to dairy queen \n2nd dairy queen gift card 15$  \n3rd dairy queen gift card 10$
URL:https://www.seafest.ca/events/chalk-drawing/
LOCATION:Th’YARC Playhouse and Arts Centre\, 76 Parade Street\, Yarmouth\, Nova Scotia\, B5A 3B4\, Canada
ORGANIZER;CN="Yarmouth Seafest":MAILTO:info@seafest.ca
END:VEVENT
BEGIN:VEVENT
DTSTART;TZID=America/Halifax:20230714T180000
DTEND;TZID=America/Halifax:20230714T220000
DTSTAMP:20260424T153943
CREATED:20230527T172635Z
LAST-MODIFIED:20230713T130210Z
UID:2106-1689357600-1689372000@www.seafest.ca
SUMMARY:Live Entertainment at the Coal Shed
DESCRIPTION:6:00-8:00pm: The Snow Duo\n8:00-10:00pm Amy Project
URL:https://www.seafest.ca/events/live-entertainment/
LOCATION:The Coal Shed\, 90 Water Street\, Yarmouth\, Nova Scotia\, B5A 1K9\, Canada
ORGANIZER;CN="Yarmouth Seafest":MAILTO:info@seafest.ca
END:VEVENT
BEGIN:VEVENT
DTSTART;TZID=America/Halifax:20230714T190000
DTEND;TZID=America/Halifax:20230714T200000
DTSTAMP:20260424T153943
CREATED:20230527T172511Z
LAST-MODIFIED:20230706T135102Z
UID:2104-1689361200-1689364800@www.seafest.ca
SUMMARY:Classic Car Cruise
DESCRIPTION:Watch along main street as 100’s of cars cruise through town.
URL:https://www.seafest.ca/events/classic-car-cruise/
LOCATION:Town of Yarmouth\, Yarmouth\, Nova Scotia\, Canada
CATEGORIES:Featured
END:VEVENT
BEGIN:VEVENT
DTSTART;TZID=America/Halifax:20230714T210000
DTEND;TZID=America/Halifax:20230715T020000
DTSTAMP:20260424T153943
CREATED:20230704T170703Z
LAST-MODIFIED:20230705T135550Z
UID:2277-1689368400-1689386400@www.seafest.ca
SUMMARY:Pub Crawl
DESCRIPTION:Ahoy\, fellow Seafest’rs! The Pub Crawl returns for the first time since 2019! Bring yourself and some friends to enjoy a night of fun\, laughter\, and of course\, some grog! The Pub Crawl will be starting at Heritage Brewery\, then Rudders\, Boston Pizza\, Johnny Patches Pub\, and finally The Red Knight. We have a bus that will transport you to all of the bars! Tickets are $20 per person. \nYOU MUST REGISTER FOR THIS EVENT. To register\, please fill out the following form via google forms\, or give us a call @ (902)815-8997: https://forms.gle/qnYj47oS9dtipPtQ6
URL:https://www.seafest.ca/events/pub-crawl/
LOCATION:Nova Scotia
END:VEVENT
BEGIN:VEVENT
DTSTART;VALUE=DATE:20230715
DTEND;VALUE=DATE:20230716
DTSTAMP:20260424T153943
CREATED:20230527T173329Z
LAST-MODIFIED:20230620T135626Z
UID:2111-1689379200-1689465599@www.seafest.ca
SUMMARY:Yarmouth Car Show
DESCRIPTION:The Roaring 20s Antique Auto Club presents the Yarmouth Car Show! Come and check out all of the amazing vehicles on Main Street for the day.
URL:https://www.seafest.ca/events/yarmouth-car-show/
LOCATION:Main Street Yarmouth
CATEGORIES:Featured
END:VEVENT
BEGIN:VEVENT
DTSTART;TZID=America/Halifax:20230715T090000
DTEND;TZID=America/Halifax:20230715T200000
DTSTAMP:20260424T153943
CREATED:20230527T172824Z
LAST-MODIFIED:20230710T143401Z
UID:2108-1689411600-1689451200@www.seafest.ca
SUMMARY:18th Century Encampment
DESCRIPTION:Red Coats will be establishing an encampment at the Mariners Centre.
URL:https://www.seafest.ca/events/encampment-demonstration/
LOCATION:Mariners Centre\, 45 Jody Shelley Drive\, Yarmouth\, Nova Scotia
ORGANIZER;CN="Yarmouth Seafest":MAILTO:info@seafest.ca
END:VEVENT
BEGIN:VEVENT
DTSTART;TZID=America/Halifax:20230715T130000
DTEND;TZID=America/Halifax:20230715T150000
DTSTAMP:20260424T153943
CREATED:20230623T132614Z
LAST-MODIFIED:20230714T150909Z
UID:2233-1689426000-1689433200@www.seafest.ca
SUMMARY:Pedal Boat Races
DESCRIPTION:NEW EVENT ALERT! Come out and race in our 3 brand new pedal boats at Lake Milo! There will will be 3 teams of 2 people per team; the race is expected to last around 20 minutes per round. Life jackets will be provided and lifeguards are on duty. Please note this is a 16+ age event. \nPrizes are \n1st 2 50$ gift card Rudder \n2nd 2 mariners membership \n3rd 2 25$ dairy queen gift card \nYOU MUST REGISTER FOR THIS EVENT. To register\, please fill out the following form via google forms: https://docs.google.com/forms/d/e/1FAIpQLSc73ga7w7XZU5-2BdA6DQjpVgmu9ni6epV628-2PfIWjKhOZA/viewform?usp=sf_link
URL:https://www.seafest.ca/events/pedal-boat-races/
LOCATION:Lake Milo Aquatic Club\, 700 Evangeline Trail\, Yarmouth\, Nova Scotia\, B5A 1K7\, Canada
END:VEVENT
BEGIN:VEVENT
DTSTART;TZID=America/Halifax:20230715T180000
DTEND;TZID=America/Halifax:20230715T230000
DTSTAMP:20260424T153943
CREATED:20230527T173441Z
LAST-MODIFIED:20230713T125906Z
UID:2113-1689444000-1689462000@www.seafest.ca
SUMMARY:Live Entertainment at the Coal Shed
DESCRIPTION:6:00-8:00pm: The Jones Brothers\n8:00-10:00pm: Big D’ & the Boyz\n\n 
URL:https://www.seafest.ca/events/live-entertainment-2/
LOCATION:The Coal Shed\, 90 Water Street\, Yarmouth\, Nova Scotia\, B5A 1K9\, Canada
ORGANIZER;CN="Yarmouth Seafest":MAILTO:info@seafest.ca
END:VEVENT
BEGIN:VEVENT
DTSTART;TZID=America/Halifax:20230716T090000
DTEND;TZID=America/Halifax:20230716T140000
DTSTAMP:20260424T153943
CREATED:20230710T143616Z
LAST-MODIFIED:20230710T143616Z
UID:2330-1689498000-1689516000@www.seafest.ca
SUMMARY:18th Century Encampment
DESCRIPTION:Red Coats will be establishing an encampment at the Mariners Centre.
URL:https://www.seafest.ca/events/18th-century-encampment/
LOCATION:Mariners Centre\, 45 Jody Shelley Drive\, Yarmouth\, Nova Scotia
ORGANIZER;CN="Yarmouth Seafest":MAILTO:info@seafest.ca
END:VEVENT
BEGIN:VEVENT
DTSTART;TZID=America/Halifax:20230716T090000
DTEND;TZID=America/Halifax:20230716T233000
DTSTAMP:20260424T153943
CREATED:20230622T180141Z
LAST-MODIFIED:20230630T132552Z
UID:2228-1689498000-1689550200@www.seafest.ca
SUMMARY:Wonder Woman Walk
DESCRIPTION:In memory of Leanne Pierce. Join us for a walk/fun run on Sunday\, July 16\, 2023 starting at Killam’s Wharf. Registration starts at 9 a.m. and the walk/run starts at 10 a.m.. Superhero costumes highly encouraged for all ages! $10 or a donation with all proceeds donated to the Gilles Boudreau and Friends Cancer Fund.
URL:https://www.seafest.ca/events/wonder-woman-walk/
LOCATION:Killams Wharf\, 90 Water St\, Yarmouth\, Nova Scotia\, Canada
END:VEVENT
BEGIN:VEVENT
DTSTART;TZID=America/Halifax:20230716T110000
DTEND;TZID=America/Halifax:20230716T140000
DTSTAMP:20260424T153943
CREATED:20230706T125239Z
LAST-MODIFIED:20230712T124934Z
UID:2283-1689505200-1689516000@www.seafest.ca
SUMMARY:Lobster Boil
DESCRIPTION:Come and enjoy an Atlantic lobster at our lobster boil!  The cost is $15 and all proceeds are donated to the Gilles Boudreau & Friends cancer Help Fund.
URL:https://www.seafest.ca/events/lobster-boil/
LOCATION:Parker Eakins wharf\, 96 Water St\, Yarmouth\, Nova Scotia\, Canada
END:VEVENT
BEGIN:VEVENT
DTSTART;TZID=America/Halifax:20230716T130000
DTEND;TZID=America/Halifax:20230716T160000
DTSTAMP:20260424T153943
CREATED:20230710T171229Z
LAST-MODIFIED:20230710T172937Z
UID:2334-1689512400-1689523200@www.seafest.ca
SUMMARY:Organic Mark Making Collage
DESCRIPTION:Looking to the work of artists Onni Nordman and Melanie Colosimo featured in   Inner/Outer Space   at the Western Branch\, we’ll explore the Gallery and surrounding areas of   Yarmouth to gather rubbings to combine into your own collage. \nwww.agns.ca/event/make-day-mark-making-more/
URL:https://www.seafest.ca/events/organic-mark-making-collage/
LOCATION:Art Gallery of Nova Scotia\, 341 Main St\, Yarmouth\, Nova Scotia\, B5A 1E7\, Canada
END:VEVENT
BEGIN:VEVENT
DTSTART;TZID=America/Halifax:20230716T130000
DTEND;TZID=America/Halifax:20230716T170000
DTSTAMP:20260424T153943
CREATED:20230527T173608Z
LAST-MODIFIED:20230714T151119Z
UID:2115-1689512400-1689526800@www.seafest.ca
SUMMARY:Beach Day
DESCRIPTION:Who doesn’t love a day at the beach? Come out to the Seafest Beach day and participate in our sand sculpture competition\, learn how to fly a kite with Tidekite\, play beach volleyball\, and more! \nThe sand sculpture competition will end at 5:00. This year’s themes is starlight and sandcastles\, however\, feel free to design whatever your hearts desire! \nthe prizes for the sand sculpture building competition are \nBest overall 50$ cash and a old hat for every builder \nBest themed 50$ cash and a old hat for every builder \nMost creative 50$ cash and a old hat for every builder \nJudges choice 50$ cash and a old hat for every builder
URL:https://www.seafest.ca/events/beach-day/
LOCATION:Port maitland beach\, 3297 Main Shore Road\, Port Maitland\, Nova Scotia\, Canada
CATEGORIES:Featured
ORGANIZER;CN="Yarmouth Seafest":MAILTO:info@seafest.ca
END:VEVENT
BEGIN:VEVENT
DTSTART;TZID=America/Halifax:20230716T180000
DTEND;TZID=America/Halifax:20230716T210000
DTSTAMP:20260424T153943
CREATED:20230527T175118Z
LAST-MODIFIED:20230706T131224Z
UID:2149-1689530400-1689541200@www.seafest.ca
SUMMARY:Paint Night - Night 2
DESCRIPTION:Come enjoy a guided paint night with Dawn at the Th’YARC Playhouse and Arts Centre. All materials are provided. Bar services and canteen will be open. \nYOU MUST REGISTER FOR THIS EVENT. There is a maximum of 20 people per night and there is a $20 admission fee that can either be paid in advance at the Seafest office or an e-transfer payment made to info@seafest.ca.\nTo register\, please fill out the following form via google forms: https://docs.google.com/forms/d/e/1FAIpQLSf8sa2ETOnPcACMTpusIIa8SBMhly4jnkz_-sx_VObsWvm3XA/viewform?usp=sf_link
URL:https://www.seafest.ca/events/paint-night-2/
LOCATION:Th’YARC Playhouse and Arts Centre\, 76 Parade Street\, Yarmouth\, Nova Scotia\, B5A 3B4\, Canada
ORGANIZER;CN="Yarmouth Seafest":MAILTO:info@seafest.ca
END:VEVENT
BEGIN:VEVENT
DTSTART;TZID=America/Halifax:20230717T130000
DTEND;TZID=America/Halifax:20230717T140000
DTSTAMP:20260424T153943
CREATED:20230706T130345Z
LAST-MODIFIED:20230706T130345Z
UID:2287-1689598800-1689602400@www.seafest.ca
SUMMARY:Cinergy Cardio Fusion
DESCRIPTION:
URL:https://www.seafest.ca/events/cinergy-cardio-fusion/
LOCATION:Nova Scotia
END:VEVENT
BEGIN:VEVENT
DTSTART;TZID=America/Halifax:20230717T170000
DTEND;TZID=America/Halifax:20230717T200000
DTSTAMP:20260424T153943
CREATED:20230701T001410Z
LAST-MODIFIED:20230717T153614Z
UID:2262-1689613200-1689624000@www.seafest.ca
SUMMARY:Escape Room - Night 1 (SOLD OUT)
DESCRIPTION:Do you have what it takes to escape our Seafest-themed escape room? Come out to the Lake Milo Aquatic Club and test your problem-solving skills! A maximum of 8 people are allowed per group\, with a time limit of 45 minutes. No electronics are permitted during the 45 minutes; you can only use your brain! \nYOU MUST REGISTER FOR THIS EVENT. To register\, please fill out the following form via google forms or come see us in the Seafest Office: https://forms.gle/tL5bekEDSAtBMYNv5 \nDONATIONS ARE ENCOURAGED. All proceeds go to charity.
URL:https://www.seafest.ca/events/escape-room-3/
LOCATION:Lake Milo Aquatic Club\, 700 Evangeline Trail\, Yarmouth\, Nova Scotia\, B5A 1K7\, Canada
END:VEVENT
BEGIN:VEVENT
DTSTART;TZID=America/Halifax:20230717T180000
DTEND;TZID=America/Halifax:20230717T200000
DTSTAMP:20260424T153943
CREATED:20230527T173708Z
LAST-MODIFIED:20230717T161630Z
UID:2117-1689616800-1689624000@www.seafest.ca
SUMMARY:The Amazing Race (SOLD OUT)
DESCRIPTION:The Seafest Amazing Race is coming! The event will be on foot and in teams of 2. The event will start at Killam’s Wharf\, and from there\, the teams will walk to nearby points of interest to progress through the race! \nYOU MUST REGISTER FOR THIS EVENT. To register\, please fill out the following form via google forms: https://docs.google.com/forms/d/e/1FAIpQLSd10ltSrBZnevi6pKjLFMQE2lbkUATyftshtArZri0aw9bccQ/viewform?usp=sf_link \nPrizes are: \n\n1st place: 2 Seafest shirts\, 2 Seafest hats and 2 Seafest mugs\n2nd place: 2 Seafest hats\, 2 Seafest mugs\n\n 
URL:https://www.seafest.ca/events/amazing-race/
LOCATION:Nova Scotia
ORGANIZER;CN="Yarmouth Seafest":MAILTO:info@seafest.ca
END:VEVENT
BEGIN:VEVENT
DTSTART;TZID=America/Halifax:20230718T100000
DTEND;TZID=America/Halifax:20230718T123000
DTSTAMP:20260424T153943
CREATED:20230527T173745Z
LAST-MODIFIED:20230717T160418Z
UID:2119-1689674400-1689683400@www.seafest.ca
SUMMARY:Children's Boat Building & Dunkin' for Ducks
DESCRIPTION:Come and join the Parent’s Place on the waterfront as they show you how to make your own little boat! All materials will be provided. While you’re there\, children can test their luck by dunkin’ for rubber duckies! If you get a winner\, you will receive a prize!
URL:https://www.seafest.ca/events/childrens-boat-building/
LOCATION:Killams Wharf\, 90 Water St\, Yarmouth\, Nova Scotia\, Canada
ORGANIZER;CN="Yarmouth Seafest":MAILTO:info@seafest.ca
END:VEVENT
BEGIN:VEVENT
DTSTART;TZID=America/Halifax:20230718T140000
DTEND;TZID=America/Halifax:20230718T160000
DTSTAMP:20260424T153943
CREATED:20230706T134057Z
LAST-MODIFIED:20230706T134057Z
UID:2302-1689688800-1689696000@www.seafest.ca
SUMMARY:Art Group Print Work
DESCRIPTION:
URL:https://www.seafest.ca/events/art-group-print-work/
LOCATION:Main Street Yarmouth
END:VEVENT
BEGIN:VEVENT
DTSTART;TZID=America/Halifax:20230718T170000
DTEND;TZID=America/Halifax:20230718T200000
DTSTAMP:20260424T153943
CREATED:20230630T140945Z
LAST-MODIFIED:20230717T160655Z
UID:2267-1689699600-1689710400@www.seafest.ca
SUMMARY:Escape Room - Night 2 (SOLD OUT)
DESCRIPTION:Do you have what it takes to escape our Seafest-themed escape room? Come out to the Lake Milo Aquatic Club and test your problem-solving skills! A maximum of 8 people are allowed per group\, with a time limit of 45 minutes. No electronics are permitted during the 45 minutes; you can only use your brain! \nYOU MUST REGISTER FOR THIS EVENT. To register\, please fill out the following form via google forms or come see us in the Seafest Office: https://forms.gle/BBvMeCgiHcsVL53E8 \nDONATIONS ARE ENCOURAGED. All proceeds go to charity.
URL:https://www.seafest.ca/events/escape-room-2/
LOCATION:Lake Milo Aquatic Club\, 700 Evangeline Trail\, Yarmouth\, Nova Scotia\, B5A 1K7\, Canada
END:VEVENT
BEGIN:VEVENT
DTSTART;TZID=America/Halifax:20230719T100000
DTEND;TZID=America/Halifax:20230719T110000
DTSTAMP:20260424T153943
CREATED:20230706T130527Z
LAST-MODIFIED:20230706T130527Z
UID:2289-1689760800-1689764400@www.seafest.ca
SUMMARY:Yoga on the Waterfront
DESCRIPTION:
URL:https://www.seafest.ca/events/yoga-on-the-waterfront/
LOCATION:Killams Wharf\, 90 Water St\, Yarmouth\, Nova Scotia\, Canada
END:VEVENT
BEGIN:VEVENT
DTSTART;TZID=America/Halifax:20230719T180000
DTEND;TZID=America/Halifax:20230719T200000
DTSTAMP:20260424T153943
CREATED:20230527T174933Z
LAST-MODIFIED:20230717T161729Z
UID:2145-1689789600-1689796800@www.seafest.ca
SUMMARY:The Amazing Race - Night 2 (SOLD OUT)
DESCRIPTION:The Seafest Amazing Race is coming! The event will be on foot and in teams of 2. The event will start at Killam’s Wharf\, and from there\, the teams will walk to nearby points of interest to progress through the race! \nYOU MUST REGISTER FOR THIS EVENT. To register\, please fill out the following form via google forms: https://docs.google.com/forms/d/e/1FAIpQLSd10ltSrBZnevi6pKjLFMQE2lbkUATyftshtArZri0aw9bccQ/viewform?usp=sf_link \nPrizes are: \n\n1st place: 2 Seafest shirts\, 2 Seafest hats and 2 Seafest mugs\n2nd place: 2 Seafest hats\, 2 Seafest mugs
URL:https://www.seafest.ca/events/amazing-race-night-2/
LOCATION:Killams Wharf\, 90 Water St\, Yarmouth\, Nova Scotia\, Canada
ORGANIZER;CN="Yarmouth Seafest":MAILTO:info@seafest.ca
END:VEVENT
END:VCALENDAR