BEGIN:VCALENDAR
VERSION:2.0
PRODID:-//Seafest Festival | Yarmouth, Nova Scotia - ECPv6.15.20//NONSGML v1.0//EN
CALSCALE:GREGORIAN
METHOD:PUBLISH
X-WR-CALNAME:Seafest Festival | Yarmouth, Nova Scotia
X-ORIGINAL-URL:https://www.seafest.ca
X-WR-CALDESC:Events for Seafest Festival | Yarmouth, Nova Scotia
REFRESH-INTERVAL;VALUE=DURATION:PT1H
X-Robots-Tag:noindex
X-PUBLISHED-TTL:PT1H
BEGIN:VTIMEZONE
TZID:America/Sao_Paulo
BEGIN:STANDARD
TZOFFSETFROM:-0300
TZOFFSETTO:-0300
TZNAME:-03
DTSTART:20230101T000000
END:STANDARD
END:VTIMEZONE
BEGIN:VTIMEZONE
TZID:America/Halifax
BEGIN:DAYLIGHT
TZOFFSETFROM:-0400
TZOFFSETTO:-0300
TZNAME:ADT
DTSTART:20230312T060000
END:DAYLIGHT
BEGIN:STANDARD
TZOFFSETFROM:-0300
TZOFFSETTO:-0400
TZNAME:AST
DTSTART:20231105T050000
END:STANDARD
BEGIN:DAYLIGHT
TZOFFSETFROM:-0400
TZOFFSETTO:-0300
TZNAME:ADT
DTSTART:20240310T060000
END:DAYLIGHT
BEGIN:STANDARD
TZOFFSETFROM:-0300
TZOFFSETTO:-0400
TZNAME:AST
DTSTART:20241103T050000
END:STANDARD
BEGIN:DAYLIGHT
TZOFFSETFROM:-0400
TZOFFSETTO:-0300
TZNAME:ADT
DTSTART:20250309T060000
END:DAYLIGHT
BEGIN:STANDARD
TZOFFSETFROM:-0300
TZOFFSETTO:-0400
TZNAME:AST
DTSTART:20251102T050000
END:STANDARD
END:VTIMEZONE
BEGIN:VEVENT
DTSTART;TZID=America/Sao_Paulo:20240719T011500
DTEND;TZID=America/Sao_Paulo:20240719T140000
DTSTAMP:20260423T132333
CREATED:20240704T171730Z
LAST-MODIFIED:20240711T135401Z
UID:2459-1721351700-1721397600@www.seafest.ca
SUMMARY:Pharmasave Children's Parade
DESCRIPTION:Come join us for the Pharmasave Children’s Parade and picnic in the park! The parade will walk around Frost Park starting in the town hall parking lot and require a waiver to be signed for your child to participate. The waiver will be provide at the event.
URL:https://www.seafest.ca/events/childrens-parade/
LOCATION:Frost Park\, 406 Main Street\, Yarmouth\, Nova Scotia\, Canada
ORGANIZER;CN="Yarmouth Seafest":MAILTO:info@seafest.ca
END:VEVENT
BEGIN:VEVENT
DTSTART;TZID=America/Sao_Paulo:20240719T190000
DTEND;TZID=America/Sao_Paulo:20240719T200000
DTSTAMP:20260423T132333
CREATED:20240621T152739Z
LAST-MODIFIED:20240714T130135Z
UID:2392-1721415600-1721419200@www.seafest.ca
SUMMARY:Classic Car Cruise
DESCRIPTION:Watch along Main Street as hundreds of classic cars cruise through the town. Brought to you by the Roaring 20’s Antique Auto Club!
URL:https://www.seafest.ca/events/classic-car-cruise-2/
LOCATION:Main Street Yarmouth
END:VEVENT
BEGIN:VEVENT
DTSTART;TZID=America/Sao_Paulo:20240720T080000
DTEND;TZID=America/Sao_Paulo:20240720T160000
DTSTAMP:20260423T132333
CREATED:20240621T153011Z
LAST-MODIFIED:20240621T153011Z
UID:2402-1721462400-1721491200@www.seafest.ca
SUMMARY:Classic Car Show
DESCRIPTION:The Roaring 20s Antique Auto Club presents the Yarmouth Car Show! Come and check out all of the amazing vehicles on display along Main Street for the day!
URL:https://www.seafest.ca/events/classic-car-show/
LOCATION:Main Street Yarmouth
END:VEVENT
BEGIN:VEVENT
DTSTART;TZID=America/Sao_Paulo:20240720T090000
DTEND;TZID=America/Sao_Paulo:20240720T130000
DTSTAMP:20260423T132333
CREATED:20240708T172119Z
LAST-MODIFIED:20240708T172119Z
UID:2573-1721466000-1721480400@www.seafest.ca
SUMMARY:Yarmouth County Museum and Archives Annual Yard Sale
DESCRIPTION:The Yarmouth County Museum and Archives will hold their annual yard sale where you can find household items\, books\, antiques\, holiday items\, and much more!
URL:https://www.seafest.ca/events/yarmouth-county-museum-and-archives-annual-yard-sale/
LOCATION:Yarmouth County Museum\, 22 Collins st\, Yarmouth\, Nova Scotia\, Canada
END:VEVENT
BEGIN:VEVENT
DTSTART;TZID=America/Halifax:20240721T090000
DTEND;TZID=America/Halifax:20240721T100000
DTSTAMP:20260423T132333
CREATED:20240621T153121Z
LAST-MODIFIED:20240710T220509Z
UID:2406-1721552400-1721556000@www.seafest.ca
SUMMARY:Wonder Woman Walk
DESCRIPTION:In memory of Leanne Pierce. Join us for a walk/fun run on Sunday\, July 21\, 2024\, starting at Killam’s Wharf. Registration opens at 9 a.m. and the walk/run starts at 10:00 a.m. \nSuperhero costumes are highly encouraged for all ages! \n$10 or a donation with all proceeds donated to the Gilles Boudreau and Friends Cancer Fund.
URL:https://www.seafest.ca/events/wonder-woman-walk-2/
LOCATION:Killam Bros. Marina\, 90 Water St\, Yarmouth\, Nova Scotia\, Canada
ORGANIZER;CN="Yarmouth Seafest":MAILTO:info@seafest.ca
END:VEVENT
BEGIN:VEVENT
DTSTART;TZID=America/Sao_Paulo:20240721T120000
DTEND;TZID=America/Sao_Paulo:20240721T170000
DTSTAMP:20260423T132333
CREATED:20240621T153255Z
LAST-MODIFIED:20240720T190029Z
UID:2408-1721563200-1721581200@www.seafest.ca
SUMMARY:Beach Day and Sand Sculpture Competition
DESCRIPTION:Join us at Port Maitland Beach for our signature sand sculpture competition! There will be prizes and other beach-related activities such as volleyball. \n\nSand Sculptures Competition (12 – 4 pm) Prizes for each category winner!\nSCULPTURES BEGINNING BEFORE 12:00 P.M WILL NOT BE CONSIDERED FOR COMPETITION\nSand sculpture categories are as follows: best overall\, best themed\, most creative\, and judges choice\n\n 
URL:https://www.seafest.ca/events/beach-day-2/
LOCATION:Port maitland beach\, 3297 Main Shore Road\, Port Maitland\, Nova Scotia\, Canada
ORGANIZER;CN="Yarmouth Seafest":MAILTO:info@seafest.ca
END:VEVENT
BEGIN:VEVENT
DTSTART;TZID=America/Halifax:20240723T080000
DTEND;TZID=America/Halifax:20240723T140000
DTSTAMP:20260423T132333
CREATED:20240621T153710Z
LAST-MODIFIED:20240625T140239Z
UID:2497-1721721600-1721743200@www.seafest.ca
SUMMARY:Aidaen Mae Yard Sale
DESCRIPTION:Participate in a yard sale at Aidaen’s Place\, where all proceeds will support youth wellness programs at The Purple House.
URL:https://www.seafest.ca/events/aidaen-mae-yard-sale/
LOCATION:Aidaen’s Place Youth Wellness Center\, 487 Main St\, Yarmouth\, Nova Scotia\, B5A 1H4\, Canada
ORGANIZER;CN="Aidaen's Place Youth Wellness Center":MAILTO:aidaensplace@gmail.com
END:VEVENT
BEGIN:VEVENT
DTSTART;TZID=America/Halifax:20240723T170000
DTEND;TZID=America/Halifax:20240723T200000
DTSTAMP:20260423T132333
CREATED:20240711T133413Z
LAST-MODIFIED:20240717T174649Z
UID:2422-1721754000-1721764800@www.seafest.ca
SUMMARY:Escape Room Day Three (Sold Out)
DESCRIPTION:Do you have what it takes to escape our Seafest-themed escape room? Come out to the Holy Trinity Church and test your problem-solving skills! A maximum of 8 people are allowed per group\, with a time limit of 45 minutes. No electronics are permitted during the 45 minutes; you can only use your brain! Payment and donations will be taken in person before the beginning of the escape room. YOU MUST REGISTER FOR THIS EVENT. \nTo register\, please fill out the following form via Google Form https://forms.gle/6kTYqgYyh3Spi9oA9 \n$5 per participant DONATIONS ARE ENCOURAGED. All donations go to charity.
URL:https://www.seafest.ca/events/escape-room-day-three/
LOCATION:Holy Trinity Church\, 61 William Street\, Yarmouth\, Nova Scotia\, B5A 1Y4\, Canada
ORGANIZER;CN="Yarmouth Seafest":MAILTO:info@seafest.ca
END:VEVENT
BEGIN:VEVENT
DTSTART;TZID=America/Halifax:20240724T130000
DTEND;TZID=America/Halifax:20240724T140000
DTSTAMP:20260423T132333
CREATED:20240621T153911Z
LAST-MODIFIED:20240625T145759Z
UID:2424-1721826000-1721829600@www.seafest.ca
SUMMARY:Cinergy Cardio Fusion
DESCRIPTION:Get ready to sweat and smile! Join us for an electrifying Cinergy Cardio Fusion event where fitness meets fun. Let’s elevate our heart rates and spirits together!
URL:https://www.seafest.ca/events/cinergy-cardio-fusion-2/
LOCATION:Killams Wharf\, 90 Water St\, Yarmouth\, Nova Scotia\, Canada
ORGANIZER;CN="Yarmouth Seafest":MAILTO:info@seafest.ca
END:VEVENT
BEGIN:VEVENT
DTSTART;TZID=America/Sao_Paulo:20240725T180000
DTEND;TZID=America/Sao_Paulo:20240725T200000
DTSTAMP:20260423T132333
CREATED:20240723T135228Z
LAST-MODIFIED:20240723T135228Z
UID:2611-1721930400-1721937600@www.seafest.ca
SUMMARY:Coastal Credit Union Car Rally Scavenger Hunt
DESCRIPTION:Discover the charming town of Yarmouth through an exciting scavenger hunt. Form a team of up to 5 members and embark on an adventure! This event will require at least one member to have a mobile device and one member to have a vehicle \nThis event requires you to register using the following form: https://forms.gle/KpTNPhFaxMpc2Aox9
URL:https://www.seafest.ca/events/coastal-credit-union-car-rally-scavenger-hunt/
LOCATION:Killam Bros. Marina\, 90 Water St\, Yarmouth\, Nova Scotia\, Canada
ORGANIZER;CN="Yarmouth Seafest":MAILTO:info@seafest.ca
END:VEVENT
BEGIN:VEVENT
DTSTART;TZID=America/Sao_Paulo:20240727T110000
DTEND;TZID=America/Sao_Paulo:20240727T120000
DTSTAMP:20260423T132333
CREATED:20240621T154448Z
LAST-MODIFIED:20240715T152645Z
UID:2446-1722078000-1722081600@www.seafest.ca
SUMMARY:Kids'/Family Scavenger Hunt
DESCRIPTION:Join in on the family fun with an exciting scavenger hunt! It’s an adventure everyone will love!
URL:https://www.seafest.ca/events/kids-family-scavenger-hunt/
LOCATION:Killam Bros. Marina\, 90 Water St\, Yarmouth\, Nova Scotia\, Canada
ORGANIZER;CN="Yarmouth Seafest":MAILTO:info@seafest.ca
END:VEVENT
BEGIN:VEVENT
DTSTART;TZID=America/Sao_Paulo:20240727T130000
DTEND;TZID=America/Sao_Paulo:20240727T140000
DTSTAMP:20260423T132333
CREATED:20240621T154559Z
LAST-MODIFIED:20240715T135319Z
UID:2440-1722085200-1722088800@www.seafest.ca
SUMMARY:Scotia Garden Kid's Herring Toss
DESCRIPTION:It’s a bird! It’s a plane! It’s … a herring? You’ll want to look up and pay attention during this slippery Seafest staple as your kids and their teammates dress up in traditional yellow rain gear and toss Herring to each other from commercial fishing boxes\, multiple meters apart. The goal is to be the first team to get geared up and catch as many Herring in a bucket as possible. It’s a ton of fun and a fan favorite year after year! \nPrizes will be provided to 1st\, 2nd and 3rd place! \nWe recommend wearing older clothes that can be stained or soiled. \nThis event is for those 12 years of age and under.
URL:https://www.seafest.ca/events/kids-herring-toss-2/
LOCATION:Killams Wharf\, 90 Water St\, Yarmouth\, Nova Scotia\, Canada
ORGANIZER;CN="Yarmouth Seafest":MAILTO:info@seafest.ca
END:VEVENT
END:VCALENDAR